Workbook

Sheet Kopeja revizija
B1: Kopējā revīzija
B2: miljonos EUR
C3: ESA 2010 kods | D3: 2014 | E3: 2015 | F3: 2016 | G3: 2017 | H3: 2018 | I3: 2019 | J3: 2020 | K3: 2021 | L3: 2022 | M3: 2023 | N3: 2024
B5: IEKŠZEMES KOPPRODUKTS | C5: B1*G | D5: ='1.1'!D5+'1.2'!D5+'1.3'!D5+'2.1'!D5+'2.2'!D5+'2.3'!D5+'2.5'!D5+'2.4'!D5+'3'!D5 -> 0 | E5: ='1.1'!E5+'1.2'!E5+'1.3'!E5+'2.1'!E5+'2.2'!E5+'2.3'!E5+'2.5'!E5+'2.4'!E5+'3'!E5 -> 0 | F5: ='1.1'!F5+'1.2'!F5+'1.3'!F5+'2.1'!F5+'2.2'!F5+'2.3'!F5+'2.5'!F5+'2.4'!F5+'3'!F5 -> 0 | G5: ='1.1'!G5+'1.2'!G5+'1.3'!G5+'2.1'!G5+'2.2'!G5+'2.3'!G5+'2.5'!G5+'2.4'!G5+'3'!G5 -> 0 | H5: ='1.1'!H5+'1.2'!H5+'1.3'!H5+'2.1'!H5+'2.2'!H5+'2.3'!H5+'2.5'!H5+'2.4'!H5+'3'!H5 -> -12.515868 | I5: ='1.1'!I5+'1.2'!I5+'1.3'!I5+'2.1'!I5+'2.2'!I5+'2.3'!I5+'2.5'!I5+'2.4'!I5+'3'!I5 -> -7.5504121 | J5: ='1.1'!J5+'1.2'!J5+'1.3'!J5+'2.1'!J5+'2.2'!J5+'2.3'!J5+'2.5'!J5+'2.4'!J5+'3'!J5 -> -11.674487 | K5: ='1.1'!K5+'1.2'!K5+'1.3'!K5+'2.1'!K5+'2.2'!K5+'2.3'!K5+'2.5'!K5+'2.4'!K5+'3'!K5 -> -10.44977 | ... N5: ='1.1'!N5+'1.2'!N5+'1.3'!N5+'2.1'!N5+'2.2'!N5+'2.3'!N5+'2.5'!N5+'2.4'!N5+'3'!N5 -> 455.69141
B6: IEKŠZEMES KOPPRODUKTS, % | C6: B1*G | H6: -0.00044455905 | I6: -0.00025536618 | J6: -0.00039947821 | K6: -0.00032368484 | L6: -0.0019946382 | M6: -0.0022571779 | N6: 0.011209482
B8: RAŽOŠANAS ASPEKTS
B9: Izlaide (bāzes cenās) | C9: P1 | D9: ='1.1'!D9+'1.2'!D9+'1.3'!D9+'2.1'!D9+'2.2'!D9+'2.3'!D9+'2.5'!D9+'2.4'!D9+'3'!D9 -> 0 | E9: ='1.1'!E9+'1.2'!E9+'1.3'!E9+'2.1'!E9+'2.2'!E9+'2.3'!E9+'2.5'!E9+'2.4'!E9+'3'!E9 -> 0 | F9: ='1.1'!F9+'1.2'!F9+'1.3'!F9+'2.1'!F9+'2.2'!F9+'2.3'!F9+'2.5'!F9+'2.4'!F9+'3'!F9 -> 0 | G9: ='1.1'!G9+'1.2'!G9+'1.3'!G9+'2.1'!G9+'2.2'!G9+'2.3'!G9+'2.5'!G9+'2.4'!G9+'3'!G9 -> 0 | H9: ='1.1'!H9+'1.2'!H9+'1.3'!H9+'2.1'!H9+'2.2'!H9+'2.3'!H9+'2.5'!H9+'2.4'!H9+'3'!H9 -> -1.955299 | I9: ='1.1'!I9+'1.2'!I9+'1.3'!I9+'2.1'!I9+'2.2'!I9+'2.3'!I9+'2.5'!I9+'2.4'!I9+'3'!I9 -> -2.1422784 | J9: ='1.1'!J9+'1.2'!J9+'1.3'!J9+'2.1'!J9+'2.2'!J9+'2.3'!J9+'2.5'!J9+'2.4'!J9+'3'!J9 -> -1.8004972 | K9: ='1.1'!K9+'1.2'!K9+'1.3'!K9+'2.1'!K9+'2.2'!K9+'2.3'!K9+'2.5'!K9+'2.4'!K9+'3'!K9 -> -1.6645311 | ... N9: ='1.1'!N9+'1.2'!N9+'1.3'!N9+'2.1'!N9+'2.2'!N9+'2.3'!N9+'2.5'!N9+'2.4'!N9+'3'!N9 -> 995.56614
B10: Starppatēriņš (pircēju cenās) | C10: P2 | D10: ='1.1'!D10+'1.2'!D10+'1.3'!D10+'2.1'!D10+'2.2'!D10+'2.3'!D10+'2.5'!D10+'2.4'!D10+'3'!D10 -> 0 | E10: ='1.1'!E10+'1.2'!E10+'1.3'!E10+'2.1'!E10+'2.2'!E10+'2.3'!E10+'2.5'!E10+'2.4'!E10+'3'!E10 -> 0 | F10: ='1.1'!F10+'1.2'!F10+'1.3'!F10+'2.1'!F10+'2.2'!F10+'2.3'!F10+'2.5'!F10+'2.4'!F10+'3'!F10 -> 0 | G10: ='1.1'!G10+'1.2'!G10+'1.3'!G10+'2.1'!G10+'2.2'!G10+'2.3'!G10+'2.5'!G10+'2.4'!G10+'3'!G10 -> 0 | H10: ='1.1'!H10+'1.2'!H10+'1.3'!H10+'2.1'!H10+'2.2'!H10+'2.3'!H10+'2.5'!H10+'2.4'!H10+'3'!H10 -> 0 | I10: ='1.1'!I10+'1.2'!I10+'1.3'!I10+'2.1'!I10+'2.2'!I10+'2.3'!I10+'2.5'!I10+'2.4'!I10+'3'!I10 -> 0 | J10: ='1.1'!J10+'1.2'!J10+'1.3'!J10+'2.1'!J10+'2.2'!J10+'2.3'!J10+'2.5'!J10+'2.4'!J10+'3'!J10 -> 0 | K10: ='1.1'!K10+'1.2'!K10+'1.3'!K10+'2.1'!K10+'2.2'!K10+'2.3'!K10+'2.5'!K10+'2.4'!K10+'3'!K10 -> 0 | ... N10: ='1.1'!N10+'1.2'!N10+'1.3'!N10+'2.1'!N10+'2.2'!N10+'2.3'!N10+'2.5'!N10+'2.4'!N10+'3'!N10 -> 535.40101
B11: Bruto pievienotā vērtība (bāzes cenās) | C11: B1G | D11: ='1.1'!D11+'1.2'!D11+'1.3'!D11+'2.1'!D11+'2.2'!D11+'2.3'!D11+'2.5'!D11+'2.4'!D11+'3'!D11 -> 0 | E11: ='1.1'!E11+'1.2'!E11+'1.3'!E11+'2.1'!E11+'2.2'!E11+'2.3'!E11+'2.5'!E11+'2.4'!E11+'3'!E11 -> 0 | F11: ='1.1'!F11+'1.2'!F11+'1.3'!F11+'2.1'!F11+'2.2'!F11+'2.3'!F11+'2.5'!F11+'2.4'!F11+'3'!F11 -> 0 | G11: ='1.1'!G11+'1.2'!G11+'1.3'!G11+'2.1'!G11+'2.2'!G11+'2.3'!G11+'2.5'!G11+'2.4'!G11+'3'!G11 -> 0 | H11: ='1.1'!H11+'1.2'!H11+'1.3'!H11+'2.1'!H11+'2.2'!H11+'2.3'!H11+'2.5'!H11+'2.4'!H11+'3'!H11 -> -1.955299 | I11: ='1.1'!I11+'1.2'!I11+'1.3'!I11+'2.1'!I11+'2.2'!I11+'2.3'!I11+'2.5'!I11+'2.4'!I11+'3'!I11 -> -2.1422784 | J11: ='1.1'!J11+'1.2'!J11+'1.3'!J11+'2.1'!J11+'2.2'!J11+'2.3'!J11+'2.5'!J11+'2.4'!J11+'3'!J11 -> -1.8004972 | K11: ='1.1'!K11+'1.2'!K11+'1.3'!K11+'2.1'!K11+'2.2'!K11+'2.3'!K11+'2.5'!K11+'2.4'!K11+'3'!K11 -> -1.6645311 | ... N11: ='1.1'!N11+'1.2'!N11+'1.3'!N11+'2.1'!N11+'2.2'!N11+'2.3'!N11+'2.5'!N11+'2.4'!N11+'3'!N11 -> 460.16513
B12: Produktu nodokļi | C12: D21 | D12: ='1.1'!D12+'1.2'!D12+'1.3'!D12+'2.1'!D12+'2.2'!D12+'2.3'!D12+'2.5'!D12+'2.4'!D12+'3'!D12 -> 0 | E12: ='1.1'!E12+'1.2'!E12+'1.3'!E12+'2.1'!E12+'2.2'!E12+'2.3'!E12+'2.5'!E12+'2.4'!E12+'3'!E12 -> 0 | F12: ='1.1'!F12+'1.2'!F12+'1.3'!F12+'2.1'!F12+'2.2'!F12+'2.3'!F12+'2.5'!F12+'2.4'!F12+'3'!F12 -> 0 | G12: ='1.1'!G12+'1.2'!G12+'1.3'!G12+'2.1'!G12+'2.2'!G12+'2.3'!G12+'2.5'!G12+'2.4'!G12+'3'!G12 -> 0 | H12: ='1.1'!H12+'1.2'!H12+'1.3'!H12+'2.1'!H12+'2.2'!H12+'2.3'!H12+'2.5'!H12+'2.4'!H12+'3'!H12 -> 0 | I12: ='1.1'!I12+'1.2'!I12+'1.3'!I12+'2.1'!I12+'2.2'!I12+'2.3'!I12+'2.5'!I12+'2.4'!I12+'3'!I12 -> 0 | J12: ='1.1'!J12+'1.2'!J12+'1.3'!J12+'2.1'!J12+'2.2'!J12+'2.3'!J12+'2.5'!J12+'2.4'!J12+'3'!J12 -> 0 | K12: ='1.1'!K12+'1.2'!K12+'1.3'!K12+'2.1'!K12+'2.2'!K12+'2.3'!K12+'2.5'!K12+'2.4'!K12+'3'!K12 -> 0 | ... N12: ='1.1'!N12+'1.2'!N12+'1.3'!N12+'2.1'!N12+'2.2'!N12+'2.3'!N12+'2.5'!N12+'2.4'!N12+'3'!N12 -> 0
B13: Produktu subsīdijas | C13: D31 | D13: ='1.1'!D13+'1.2'!D13+'1.3'!D13+'2.1'!D13+'2.2'!D13+'2.3'!D13+'2.5'!D13+'2.4'!D13+'3'!D13 -> 0 | E13: ='1.1'!E13+'1.2'!E13+'1.3'!E13+'2.1'!E13+'2.2'!E13+'2.3'!E13+'2.5'!E13+'2.4'!E13+'3'!E13 -> 0 | F13: ='1.1'!F13+'1.2'!F13+'1.3'!F13+'2.1'!F13+'2.2'!F13+'2.3'!F13+'2.5'!F13+'2.4'!F13+'3'!F13 -> 0 | G13: ='1.1'!G13+'1.2'!G13+'1.3'!G13+'2.1'!G13+'2.2'!G13+'2.3'!G13+'2.5'!G13+'2.4'!G13+'3'!G13 -> 0 | H13: ='1.1'!H13+'1.2'!H13+'1.3'!H13+'2.1'!H13+'2.2'!H13+'2.3'!H13+'2.5'!H13+'2.4'!H13+'3'!H13 -> 10.560569 | I13: ='1.1'!I13+'1.2'!I13+'1.3'!I13+'2.1'!I13+'2.2'!I13+'2.3'!I13+'2.5'!I13+'2.4'!I13+'3'!I13 -> 5.4081338 | J13: ='1.1'!J13+'1.2'!J13+'1.3'!J13+'2.1'!J13+'2.2'!J13+'2.3'!J13+'2.5'!J13+'2.4'!J13+'3'!J13 -> 9.8739901 | K13: ='1.1'!K13+'1.2'!K13+'1.3'!K13+'2.1'!K13+'2.2'!K13+'2.3'!K13+'2.5'!K13+'2.4'!K13+'3'!K13 -> 8.7852387 | ... N13: ='1.1'!N13+'1.2'!N13+'1.3'!N13+'2.1'!N13+'2.2'!N13+'2.3'!N13+'2.5'!N13+'2.4'!N13+'3'!N13 -> 4.4741456
B15: IZLIETOJUMA ASPKTS
B16: Kopējie galapatēriņa izdevumi | C16: P3 | D16: ='1.1'!D16+'1.2'!D16+'1.3'!D16+'2.1'!D16+'2.2'!D16+'2.3'!D16+'2.5'!D16+'2.4'!D16+'3'!D16 -> 0.025932281 | E16: ='1.1'!E16+'1.2'!E16+'1.3'!E16+'2.1'!E16+'2.2'!E16+'2.3'!E16+'2.5'!E16+'2.4'!E16+'3'!E16 -> -3.1510993 | F16: ='1.1'!F16+'1.2'!F16+'1.3'!F16+'2.1'!F16+'2.2'!F16+'2.3'!F16+'2.5'!F16+'2.4'!F16+'3'!F16 -> -0.011379317 | G16: ='1.1'!G16+'1.2'!G16+'1.3'!G16+'2.1'!G16+'2.2'!G16+'2.3'!G16+'2.5'!G16+'2.4'!G16+'3'!G16 -> -0.014610085 | H16: ='1.1'!H16+'1.2'!H16+'1.3'!H16+'2.1'!H16+'2.2'!H16+'2.3'!H16+'2.5'!H16+'2.4'!H16+'3'!H16 -> 85.659868 | I16: ='1.1'!I16+'1.2'!I16+'1.3'!I16+'2.1'!I16+'2.2'!I16+'2.3'!I16+'2.5'!I16+'2.4'!I16+'3'!I16 -> 89.469989 | J16: ='1.1'!J16+'1.2'!J16+'1.3'!J16+'2.1'!J16+'2.2'!J16+'2.3'!J16+'2.5'!J16+'2.4'!J16+'3'!J16 -> 110.59097 | K16: ='1.1'!K16+'1.2'!K16+'1.3'!K16+'2.1'!K16+'2.2'!K16+'2.3'!K16+'2.5'!K16+'2.4'!K16+'3'!K16 -> 241.18384 | ... N16: ='1.1'!N16+'1.2'!N16+'1.3'!N16+'2.1'!N16+'2.2'!N16+'2.3'!N16+'2.5'!N16+'2.4'!N16+'3'!N16 -> 356.17751
B17: Mājsaimniecību galapatēriņa izdevumi | C17: P3 | D17: ='1.1'!D17+'1.2'!D17+'1.3'!D17+'2.1'!D17+'2.2'!D17+'2.3'!D17+'2.5'!D17+'2.4'!D17+'3'!D17 -> 0.025932281 | E17: ='1.1'!E17+'1.2'!E17+'1.3'!E17+'2.1'!E17+'2.2'!E17+'2.3'!E17+'2.5'!E17+'2.4'!E17+'3'!E17 -> -3.1510993 | F17: ='1.1'!F17+'1.2'!F17+'1.3'!F17+'2.1'!F17+'2.2'!F17+'2.3'!F17+'2.5'!F17+'2.4'!F17+'3'!F17 -> -0.011379317 | G17: ='1.1'!G17+'1.2'!G17+'1.3'!G17+'2.1'!G17+'2.2'!G17+'2.3'!G17+'2.5'!G17+'2.4'!G17+'3'!G17 -> -0.014610085 | H17: ='1.1'!H17+'1.2'!H17+'1.3'!H17+'2.1'!H17+'2.2'!H17+'2.3'!H17+'2.5'!H17+'2.4'!H17+'3'!H17 -> 87.615167 | I17: ='1.1'!I17+'1.2'!I17+'1.3'!I17+'2.1'!I17+'2.2'!I17+'2.3'!I17+'2.5'!I17+'2.4'!I17+'3'!I17 -> 91.612267 | J17: ='1.1'!J17+'1.2'!J17+'1.3'!J17+'2.1'!J17+'2.2'!J17+'2.3'!J17+'2.5'!J17+'2.4'!J17+'3'!J17 -> 112.39146 | K17: ='1.1'!K17+'1.2'!K17+'1.3'!K17+'2.1'!K17+'2.2'!K17+'2.3'!K17+'2.5'!K17+'2.4'!K17+'3'!K17 -> 242.84837 | ... N17: ='1.1'!N17+'1.2'!N17+'1.3'!N17+'2.1'!N17+'2.2'!N17+'2.3'!N17+'2.5'!N17+'2.4'!N17+'3'!N17 -> 238.90425
B18: MABO galapatēriņa izdevumi | C18: P3 | D18: ='1.1'!D18+'1.2'!D18+'1.3'!D18+'2.1'!D18+'2.2'!D18+'2.3'!D18+'2.5'!D18+'2.4'!D18+'3'!D18 -> 0 | E18: ='1.1'!E18+'1.2'!E18+'1.3'!E18+'2.1'!E18+'2.2'!E18+'2.3'!E18+'2.5'!E18+'2.4'!E18+'3'!E18 -> 0 | F18: ='1.1'!F18+'1.2'!F18+'1.3'!F18+'2.1'!F18+'2.2'!F18+'2.3'!F18+'2.5'!F18+'2.4'!F18+'3'!F18 -> 0 | G18: ='1.1'!G18+'1.2'!G18+'1.3'!G18+'2.1'!G18+'2.2'!G18+'2.3'!G18+'2.5'!G18+'2.4'!G18+'3'!G18 -> 0 | H18: ='1.1'!H18+'1.2'!H18+'1.3'!H18+'2.1'!H18+'2.2'!H18+'2.3'!H18+'2.5'!H18+'2.4'!H18+'3'!H18 -> -1.3970699 | I18: ='1.1'!I18+'1.2'!I18+'1.3'!I18+'2.1'!I18+'2.2'!I18+'2.3'!I18+'2.5'!I18+'2.4'!I18+'3'!I18 -> -1.266518 | J18: ='1.1'!J18+'1.2'!J18+'1.3'!J18+'2.1'!J18+'2.2'!J18+'2.3'!J18+'2.5'!J18+'2.4'!J18+'3'!J18 -> -1.6114641 | K18: ='1.1'!K18+'1.2'!K18+'1.3'!K18+'2.1'!K18+'2.2'!K18+'2.3'!K18+'2.5'!K18+'2.4'!K18+'3'!K18 -> -1.3913338 | ... N18: ='1.1'!N18+'1.2'!N18+'1.3'!N18+'2.1'!N18+'2.2'!N18+'2.3'!N18+'2.5'!N18+'2.4'!N18+'3'!N18 -> 139.84683
B19: Valdības galapatēriņa izdevumi | C19: P3 | D19: ='1.1'!D19+'1.2'!D19+'1.3'!D19+'2.1'!D19+'2.2'!D19+'2.3'!D19+'2.5'!D19+'2.4'!D19+'3'!D19 -> 0 | E19: ='1.1'!E19+'1.2'!E19+'1.3'!E19+'2.1'!E19+'2.2'!E19+'2.3'!E19+'2.5'!E19+'2.4'!E19+'3'!E19 -> 0 | F19: ='1.1'!F19+'1.2'!F19+'1.3'!F19+'2.1'!F19+'2.2'!F19+'2.3'!F19+'2.5'!F19+'2.4'!F19+'3'!F19 -> 0 | G19: ='1.1'!G19+'1.2'!G19+'1.3'!G19+'2.1'!G19+'2.2'!G19+'2.3'!G19+'2.5'!G19+'2.4'!G19+'3'!G19 -> 0 | H19: ='1.1'!H19+'1.2'!H19+'1.3'!H19+'2.1'!H19+'2.2'!H19+'2.3'!H19+'2.5'!H19+'2.4'!H19+'3'!H19 -> -0.55822917 | I19: ='1.1'!I19+'1.2'!I19+'1.3'!I19+'2.1'!I19+'2.2'!I19+'2.3'!I19+'2.5'!I19+'2.4'!I19+'3'!I19 -> -0.87576033 | J19: ='1.1'!J19+'1.2'!J19+'1.3'!J19+'2.1'!J19+'2.2'!J19+'2.3'!J19+'2.5'!J19+'2.4'!J19+'3'!J19 -> -0.18903305 | K19: ='1.1'!K19+'1.2'!K19+'1.3'!K19+'2.1'!K19+'2.2'!K19+'2.3'!K19+'2.5'!K19+'2.4'!K19+'3'!K19 -> -0.27319727 | ... N19: ='1.1'!N19+'1.2'!N19+'1.3'!N19+'2.1'!N19+'2.2'!N19+'2.3'!N19+'2.5'!N19+'2.4'!N19+'3'!N19 -> -22.573568
B20: Bruto kapitāla veidošana | C20: P5 | D20: ='1.1'!D20+'1.2'!D20+'1.3'!D20+'2.1'!D20+'2.2'!D20+'2.3'!D20+'2.5'!D20+'2.4'!D20+'3'!D20 -> -0.012844 | E20: ='1.1'!E20+'1.2'!E20+'1.3'!E20+'2.1'!E20+'2.2'!E20+'2.3'!E20+'2.5'!E20+'2.4'!E20+'3'!E20 -> 1.5782719 | F20: ='1.1'!F20+'1.2'!F20+'1.3'!F20+'2.1'!F20+'2.2'!F20+'2.3'!F20+'2.5'!F20+'2.4'!F20+'3'!F20 -> 0.5202948 | G20: ='1.1'!G20+'1.2'!G20+'1.3'!G20+'2.1'!G20+'2.2'!G20+'2.3'!G20+'2.5'!G20+'2.4'!G20+'3'!G20 -> 9.01044 | H20: ='1.1'!H20+'1.2'!H20+'1.3'!H20+'2.1'!H20+'2.2'!H20+'2.3'!H20+'2.5'!H20+'2.4'!H20+'3'!H20 -> 86.125579 | I20: ='1.1'!I20+'1.2'!I20+'1.3'!I20+'2.1'!I20+'2.2'!I20+'2.3'!I20+'2.5'!I20+'2.4'!I20+'3'!I20 -> 111.00518 | J20: ='1.1'!J20+'1.2'!J20+'1.3'!J20+'2.1'!J20+'2.2'!J20+'2.3'!J20+'2.5'!J20+'2.4'!J20+'3'!J20 -> 29.641256 | K20: ='1.1'!K20+'1.2'!K20+'1.3'!K20+'2.1'!K20+'2.2'!K20+'2.3'!K20+'2.5'!K20+'2.4'!K20+'3'!K20 -> 91.552183 | ... N20: ='1.1'!N20+'1.2'!N20+'1.3'!N20+'2.1'!N20+'2.2'!N20+'2.3'!N20+'2.5'!N20+'2.4'!N20+'3'!N20 -> 715.31736
B21: Bruto pamatkapitāla veidošana | C21: P51g | D21: ='1.1'!D21+'1.2'!D21+'1.3'!D21+'2.1'!D21+'2.2'!D21+'2.3'!D21+'2.5'!D21+'2.4'!D21+'3'!D21 -> 0 | E21: ='1.1'!E21+'1.2'!E21+'1.3'!E21+'2.1'!E21+'2.2'!E21+'2.3'!E21+'2.5'!E21+'2.4'!E21+'3'!E21 -> 0 | F21: ='1.1'!F21+'1.2'!F21+'1.3'!F21+'2.1'!F21+'2.2'!F21+'2.3'!F21+'2.5'!F21+'2.4'!F21+'3'!F21 -> 0 | G21: ='1.1'!G21+'1.2'!G21+'1.3'!G21+'2.1'!G21+'2.2'!G21+'2.3'!G21+'2.5'!G21+'2.4'!G21+'3'!G21 -> 0 | H21: ='1.1'!H21+'1.2'!H21+'1.3'!H21+'2.1'!H21+'2.2'!H21+'2.3'!H21+'2.5'!H21+'2.4'!H21+'3'!H21 -> 0 | I21: ='1.1'!I21+'1.2'!I21+'1.3'!I21+'2.1'!I21+'2.2'!I21+'2.3'!I21+'2.5'!I21+'2.4'!I21+'3'!I21 -> 0 | J21: ='1.1'!J21+'1.2'!J21+'1.3'!J21+'2.1'!J21+'2.2'!J21+'2.3'!J21+'2.5'!J21+'2.4'!J21+'3'!J21 -> 0 | K21: ='1.1'!K21+'1.2'!K21+'1.3'!K21+'2.1'!K21+'2.2'!K21+'2.3'!K21+'2.5'!K21+'2.4'!K21+'3'!K21 -> 0 | ... N21: ='1.1'!N21+'1.2'!N21+'1.3'!N21+'2.1'!N21+'2.2'!N21+'2.3'!N21+'2.5'!N21+'2.4'!N21+'3'!N21 -> 340.98162
B22: Krājumu pārmaiņas | C22: P52 | D22: ='1.1'!D22+'1.2'!D22+'1.3'!D22+'2.1'!D22+'2.2'!D22+'2.3'!D22+'2.5'!D22+'2.4'!D22+'3'!D22 -> -0.012844 | E22: ='1.1'!E22+'1.2'!E22+'1.3'!E22+'2.1'!E22+'2.2'!E22+'2.3'!E22+'2.5'!E22+'2.4'!E22+'3'!E22 -> 1.5782719 | F22: ='1.1'!F22+'1.2'!F22+'1.3'!F22+'2.1'!F22+'2.2'!F22+'2.3'!F22+'2.5'!F22+'2.4'!F22+'3'!F22 -> 0.5202948 | G22: ='1.1'!G22+'1.2'!G22+'1.3'!G22+'2.1'!G22+'2.2'!G22+'2.3'!G22+'2.5'!G22+'2.4'!G22+'3'!G22 -> 9.01044 | H22: ='1.1'!H22+'1.2'!H22+'1.3'!H22+'2.1'!H22+'2.2'!H22+'2.3'!H22+'2.5'!H22+'2.4'!H22+'3'!H22 -> 86.125579 | I22: ='1.1'!I22+'1.2'!I22+'1.3'!I22+'2.1'!I22+'2.2'!I22+'2.3'!I22+'2.5'!I22+'2.4'!I22+'3'!I22 -> 111.00518 | J22: ='1.1'!J22+'1.2'!J22+'1.3'!J22+'2.1'!J22+'2.2'!J22+'2.3'!J22+'2.5'!J22+'2.4'!J22+'3'!J22 -> 29.641256 | K22: ='1.1'!K22+'1.2'!K22+'1.3'!K22+'2.1'!K22+'2.2'!K22+'2.3'!K22+'2.5'!K22+'2.4'!K22+'3'!K22 -> 91.552183 | ... N22: ='1.1'!N22+'1.2'!N22+'1.3'!N22+'2.1'!N22+'2.2'!N22+'2.3'!N22+'2.5'!N22+'2.4'!N22+'3'!N22 -> 368.67287
B23: Vērtslietu iegādes mīnus atsavinājumi | C23: P53 | D23: ='1.1'!D23+'1.2'!D23+'1.3'!D23+'2.1'!D23+'2.2'!D23+'2.3'!D23+'2.5'!D23+'2.4'!D23+'3'!D23 -> 0 | E23: ='1.1'!E23+'1.2'!E23+'1.3'!E23+'2.1'!E23+'2.2'!E23+'2.3'!E23+'2.5'!E23+'2.4'!E23+'3'!E23 -> 0 | F23: ='1.1'!F23+'1.2'!F23+'1.3'!F23+'2.1'!F23+'2.2'!F23+'2.3'!F23+'2.5'!F23+'2.4'!F23+'3'!F23 -> 0 | G23: ='1.1'!G23+'1.2'!G23+'1.3'!G23+'2.1'!G23+'2.2'!G23+'2.3'!G23+'2.5'!G23+'2.4'!G23+'3'!G23 -> 0 | H23: ='1.1'!H23+'1.2'!H23+'1.3'!H23+'2.1'!H23+'2.2'!H23+'2.3'!H23+'2.5'!H23+'2.4'!H23+'3'!H23 -> 0 | I23: ='1.1'!I23+'1.2'!I23+'1.3'!I23+'2.1'!I23+'2.2'!I23+'2.3'!I23+'2.5'!I23+'2.4'!I23+'3'!I23 -> 0 | J23: ='1.1'!J23+'1.2'!J23+'1.3'!J23+'2.1'!J23+'2.2'!J23+'2.3'!J23+'2.5'!J23+'2.4'!J23+'3'!J23 -> 0 | K23: ='1.1'!K23+'1.2'!K23+'1.3'!K23+'2.1'!K23+'2.2'!K23+'2.3'!K23+'2.5'!K23+'2.4'!K23+'3'!K23 -> 0 | ... N23: ='1.1'!N23+'1.2'!N23+'1.3'!N23+'2.1'!N23+'2.2'!N23+'2.3'!N23+'2.5'!N23+'2.4'!N23+'3'!N23 -> 5.662882
B24: Preču un pakalpojumu eksports | C24: P6 | D24: ='1.1'!D24+'1.2'!D24+'1.3'!D24+'2.1'!D24+'2.2'!D24+'2.3'!D24+'2.5'!D24+'2.4'!D24+'3'!D24 -> -0.030926321 | E24: ='1.1'!E24+'1.2'!E24+'1.3'!E24+'2.1'!E24+'2.2'!E24+'2.3'!E24+'2.5'!E24+'2.4'!E24+'3'!E24 -> 2.1521391 | F24: ='1.1'!F24+'1.2'!F24+'1.3'!F24+'2.1'!F24+'2.2'!F24+'2.3'!F24+'2.5'!F24+'2.4'!F24+'3'!F24 -> 0 | G24: ='1.1'!G24+'1.2'!G24+'1.3'!G24+'2.1'!G24+'2.2'!G24+'2.3'!G24+'2.5'!G24+'2.4'!G24+'3'!G24 -> -31.043034 | H24: ='1.1'!H24+'1.2'!H24+'1.3'!H24+'2.1'!H24+'2.2'!H24+'2.3'!H24+'2.5'!H24+'2.4'!H24+'3'!H24 -> -532.04567 | I24: ='1.1'!I24+'1.2'!I24+'1.3'!I24+'2.1'!I24+'2.2'!I24+'2.3'!I24+'2.5'!I24+'2.4'!I24+'3'!I24 -> -542.03649 | J24: ='1.1'!J24+'1.2'!J24+'1.3'!J24+'2.1'!J24+'2.2'!J24+'2.3'!J24+'2.5'!J24+'2.4'!J24+'3'!J24 -> -546.92511 | K24: ='1.1'!K24+'1.2'!K24+'1.3'!K24+'2.1'!K24+'2.2'!K24+'2.3'!K24+'2.5'!K24+'2.4'!K24+'3'!K24 -> -583.57943 | ... N24: ='1.1'!N24+'1.2'!N24+'1.3'!N24+'2.1'!N24+'2.2'!N24+'2.3'!N24+'2.5'!N24+'2.4'!N24+'3'!N24 -> -887.07078
B25: Preču un pakalpojumu imports | C25: P7 | D25: ='1.1'!D25+'1.2'!D25+'1.3'!D25+'2.1'!D25+'2.2'!D25+'2.3'!D25+'2.5'!D25+'2.4'!D25+'3'!D25 -> -0.01783804 | E25: ='1.1'!E25+'1.2'!E25+'1.3'!E25+'2.1'!E25+'2.2'!E25+'2.3'!E25+'2.5'!E25+'2.4'!E25+'3'!E25 -> 0.57931172 | F25: ='1.1'!F25+'1.2'!F25+'1.3'!F25+'2.1'!F25+'2.2'!F25+'2.3'!F25+'2.5'!F25+'2.4'!F25+'3'!F25 -> 0.50891548 | G25: ='1.1'!G25+'1.2'!G25+'1.3'!G25+'2.1'!G25+'2.2'!G25+'2.3'!G25+'2.5'!G25+'2.4'!G25+'3'!G25 -> -22.047204 | H25: ='1.1'!H25+'1.2'!H25+'1.3'!H25+'2.1'!H25+'2.2'!H25+'2.3'!H25+'2.5'!H25+'2.4'!H25+'3'!H25 -> -347.74435 | I25: ='1.1'!I25+'1.2'!I25+'1.3'!I25+'2.1'!I25+'2.2'!I25+'2.3'!I25+'2.5'!I25+'2.4'!I25+'3'!I25 -> -334.01092 | J25: ='1.1'!J25+'1.2'!J25+'1.3'!J25+'2.1'!J25+'2.2'!J25+'2.3'!J25+'2.5'!J25+'2.4'!J25+'3'!J25 -> -395.0184 | K25: ='1.1'!K25+'1.2'!K25+'1.3'!K25+'2.1'!K25+'2.2'!K25+'2.3'!K25+'2.5'!K25+'2.4'!K25+'3'!K25 -> -240.39364 | ... N25: ='1.1'!N25+'1.2'!N25+'1.3'!N25+'2.1'!N25+'2.2'!N25+'2.3'!N25+'2.5'!N25+'2.4'!N25+'3'!N25 -> -271.26724
B27: IENĀKUMU ASPEKTS
B28: Darba ņēmēju atalgojums | C28: D1 | D28: ='1.1'!D28+'1.2'!D28+'1.3'!D28+'2.1'!D28+'2.2'!D28+'2.3'!D28+'2.5'!D28+'2.4'!D28+'3'!D28 -> 0 | E28: ='1.1'!E28+'1.2'!E28+'1.3'!E28+'2.1'!E28+'2.2'!E28+'2.3'!E28+'2.5'!E28+'2.4'!E28+'3'!E28 -> 0 | F28: ='1.1'!F28+'1.2'!F28+'1.3'!F28+'2.1'!F28+'2.2'!F28+'2.3'!F28+'2.5'!F28+'2.4'!F28+'3'!F28 -> 0 | G28: ='1.1'!G28+'1.2'!G28+'1.3'!G28+'2.1'!G28+'2.2'!G28+'2.3'!G28+'2.5'!G28+'2.4'!G28+'3'!G28 -> 0 | H28: ='1.1'!H28+'1.2'!H28+'1.3'!H28+'2.1'!H28+'2.2'!H28+'2.3'!H28+'2.5'!H28+'2.4'!H28+'3'!H28 -> 0 | I28: ='1.1'!I28+'1.2'!I28+'1.3'!I28+'2.1'!I28+'2.2'!I28+'2.3'!I28+'2.5'!I28+'2.4'!I28+'3'!I28 -> 0 | J28: ='1.1'!J28+'1.2'!J28+'1.3'!J28+'2.1'!J28+'2.2'!J28+'2.3'!J28+'2.5'!J28+'2.4'!J28+'3'!J28 -> 0 | K28: ='1.1'!K28+'1.2'!K28+'1.3'!K28+'2.1'!K28+'2.2'!K28+'2.3'!K28+'2.5'!K28+'2.4'!K28+'3'!K28 -> 0 | ... N28: ='1.1'!N28+'1.2'!N28+'1.3'!N28+'2.1'!N28+'2.2'!N28+'2.3'!N28+'2.5'!N28+'2.4'!N28+'3'!N28 -> -154.18714
B29: Bruto pamatdarbības pārpalikums un bruto jauktais ienākums | C29: B2G+B3G | D29: ='1.1'!D29+'1.2'!D29+'1.3'!D29+'2.1'!D29+'2.2'!D29+'2.3'!D29+'2.5'!D29+'2.4'!D29+'3'!D29 -> 0 | E29: ='1.1'!E29+'1.2'!E29+'1.3'!E29+'2.1'!E29+'2.2'!E29+'2.3'!E29+'2.5'!E29+'2.4'!E29+'3'!E29 -> 0 | F29: ='1.1'!F29+'1.2'!F29+'1.3'!F29+'2.1'!F29+'2.2'!F29+'2.3'!F29+'2.5'!F29+'2.4'!F29+'3'!F29 -> 0 | G29: ='1.1'!G29+'1.2'!G29+'1.3'!G29+'2.1'!G29+'2.2'!G29+'2.3'!G29+'2.5'!G29+'2.4'!G29+'3'!G29 -> 0 | H29: ='1.1'!H29+'1.2'!H29+'1.3'!H29+'2.1'!H29+'2.2'!H29+'2.3'!H29+'2.5'!H29+'2.4'!H29+'3'!H29 -> -39.944825 | I29: ='1.1'!I29+'1.2'!I29+'1.3'!I29+'2.1'!I29+'2.2'!I29+'2.3'!I29+'2.5'!I29+'2.4'!I29+'3'!I29 -> -41.513419 | J29: ='1.1'!J29+'1.2'!J29+'1.3'!J29+'2.1'!J29+'2.2'!J29+'2.3'!J29+'2.5'!J29+'2.4'!J29+'3'!J29 -> -65.289365 | K29: ='1.1'!K29+'1.2'!K29+'1.3'!K29+'2.1'!K29+'2.2'!K29+'2.3'!K29+'2.5'!K29+'2.4'!K29+'3'!K29 -> -40.65491 | ... N29: ='1.1'!N29+'1.2'!N29+'1.3'!N29+'2.1'!N29+'2.2'!N29+'2.3'!N29+'2.5'!N29+'2.4'!N29+'3'!N29 -> 566.67175
B30: Ražošanas un importa nodokļi | C30: D2 | D30: ='1.1'!D30+'1.2'!D30+'1.3'!D30+'2.1'!D30+'2.2'!D30+'2.3'!D30+'2.5'!D30+'2.4'!D30+'3'!D30 -> 0 | E30: ='1.1'!E30+'1.2'!E30+'1.3'!E30+'2.1'!E30+'2.2'!E30+'2.3'!E30+'2.5'!E30+'2.4'!E30+'3'!E30 -> 0 | F30: ='1.1'!F30+'1.2'!F30+'1.3'!F30+'2.1'!F30+'2.2'!F30+'2.3'!F30+'2.5'!F30+'2.4'!F30+'3'!F30 -> 0 | G30: ='1.1'!G30+'1.2'!G30+'1.3'!G30+'2.1'!G30+'2.2'!G30+'2.3'!G30+'2.5'!G30+'2.4'!G30+'3'!G30 -> 0 | H30: ='1.1'!H30+'1.2'!H30+'1.3'!H30+'2.1'!H30+'2.2'!H30+'2.3'!H30+'2.5'!H30+'2.4'!H30+'3'!H30 -> 0 | I30: ='1.1'!I30+'1.2'!I30+'1.3'!I30+'2.1'!I30+'2.2'!I30+'2.3'!I30+'2.5'!I30+'2.4'!I30+'3'!I30 -> 0 | J30: ='1.1'!J30+'1.2'!J30+'1.3'!J30+'2.1'!J30+'2.2'!J30+'2.3'!J30+'2.5'!J30+'2.4'!J30+'3'!J30 -> 0 | K30: ='1.1'!K30+'1.2'!K30+'1.3'!K30+'2.1'!K30+'2.2'!K30+'2.3'!K30+'2.5'!K30+'2.4'!K30+'3'!K30 -> 0 | ... N30: ='1.1'!N30+'1.2'!N30+'1.3'!N30+'2.1'!N30+'2.2'!N30+'2.3'!N30+'2.5'!N30+'2.4'!N30+'3'!N30 -> 0
B31: Subsīdijas | C31: D3 | D31: ='1.1'!D31+'1.2'!D31+'1.3'!D31+'2.1'!D31+'2.2'!D31+'2.3'!D31+'2.5'!D31+'2.4'!D31+'3'!D31 -> 0 | E31: ='1.1'!E31+'1.2'!E31+'1.3'!E31+'2.1'!E31+'2.2'!E31+'2.3'!E31+'2.5'!E31+'2.4'!E31+'3'!E31 -> 0 | F31: ='1.1'!F31+'1.2'!F31+'1.3'!F31+'2.1'!F31+'2.2'!F31+'2.3'!F31+'2.5'!F31+'2.4'!F31+'3'!F31 -> 0 | G31: ='1.1'!G31+'1.2'!G31+'1.3'!G31+'2.1'!G31+'2.2'!G31+'2.3'!G31+'2.5'!G31+'2.4'!G31+'3'!G31 -> 0 | H31: ='1.1'!H31+'1.2'!H31+'1.3'!H31+'2.1'!H31+'2.2'!H31+'2.3'!H31+'2.5'!H31+'2.4'!H31+'3'!H31 -> -27.428958 | I31: ='1.1'!I31+'1.2'!I31+'1.3'!I31+'2.1'!I31+'2.2'!I31+'2.3'!I31+'2.5'!I31+'2.4'!I31+'3'!I31 -> -33.963007 | J31: ='1.1'!J31+'1.2'!J31+'1.3'!J31+'2.1'!J31+'2.2'!J31+'2.3'!J31+'2.5'!J31+'2.4'!J31+'3'!J31 -> -53.614878 | K31: ='1.1'!K31+'1.2'!K31+'1.3'!K31+'2.1'!K31+'2.2'!K31+'2.3'!K31+'2.5'!K31+'2.4'!K31+'3'!K31 -> -30.20514 | ... N31: ='1.1'!N31+'1.2'!N31+'1.3'!N31+'2.1'!N31+'2.2'!N31+'2.3'!N31+'2.5'!N31+'2.4'!N31+'3'!N31 -> -43.206403

Sheet 1.1
B1: 1.1. Lauku attīstības programmai (LAP) atvēlēto līdzekļu reģistrēšanas pārskatīšana
B2: miljonos EUR
C3: ESA 2010 kods | D3: 2014 | E3: 2015 | F3: 2016 | G3: 2017 | H3: 2018 | I3: 2019 | J3: 2020 | K3: 2021 | L3: 2022 | M3: 2023 | N3: 2024
B5: IEKŠZEMES KOPPRODUKTS | C5: B1*G | H5: -12.515868 | I5: -7.5504121 | J5: -11.674487 | K5: -10.44977 | L5: -16.133538 | M5: -10.921536 | N5: -6.8425267
B6: IEKŠZEMES KOPPRODUKTS, % | C6: B1*G | H6: -0.00044455905 | I6: -0.00025536618 | J6: -0.00039947821 | K6: -0.00032368484 | L6: -0.00044705187 | M6: -0.00027604577 | N6: -0.00016831824
B8: RAŽOŠANAS ASPEKTS
B9: Izlaide (bāzes cenās) | C9: P1 | H9: -1.955299 | I9: -2.1422784 | J9: -1.8004972 | K9: -1.6645311 | L9: -2.0913342 | M9: -1.9000551 | N9: -2.3683811
B10: Starppatēriņš (pircēju cenās) | C10: P2
B11: Bruto pievienotā vērtība (bāzes cenās) | C11: B1G | H11: -1.955299 | I11: -2.1422784 | J11: -1.8004972 | K11: -1.6645311 | L11: -2.0913342 | M11: -1.9000551 | N11: -2.3683811
B12: Produktu nodokļi | C12: D21
B13: Produktu subsīdijas | C13: D31 | H13: 10.560569 | I13: 5.4081338 | J13: 9.8739901 | K13: 8.7852387 | L13: 14.042204 | M13: 9.0214807 | N13: 4.4741456
B15: IZLIETOJUMA ASPKTS
B16: Kopējie galapatēriņa izdevumi | C16: P3 | H16: -1.955299 | I16: -2.1422784 | J16: -1.8004972 | K16: -1.6645311 | L16: -2.0913342 | M16: -1.9000551 | N16: -2.3683811
B17: Mājsaimniecību galapatēriņa izdevumi | C17: P3
B18: MABO galapatēriņa izdevumi | C18: P3 | H18: -1.3970699 | I18: -1.266518 | J18: -1.6114641 | K18: -1.3913338 | L18: -1.9121356 | M18: -1.7380185 | N18: -2.2165415
B19: Valdības galapatēriņa izdevumi | C19: P3 | H19: -0.55822917 | I19: -0.87576033 | J19: -0.18903305 | K19: -0.27319727 | L19: -0.17919854 | M19: -0.16203659 | N19: -0.15183966
B20: Bruto kapitāla veidošana | C20: P5 | H20: -10.560569 | I20: -5.4081338 | J20: -9.8739901 | K20: -8.7852387 | L20: -14.042204 | M20: -9.0214807 | N20: -4.4741456
B21: Bruto pamatkapitāla veidošana | C21: P51g
B22: Krājumu pārmaiņas | C22: P52 | H22: -10.560569 | I22: -5.4081338 | J22: -9.8739901 | K22: -8.7852387 | L22: -14.042204 | M22: -9.0214807 | N22: -4.4741456
B23: Vērtslietu iegādes mīnus atsavinājumi | C23: P53
B24: Preču un pakalpojumu eksports | C24: P6
B25: Preču un pakalpojumu imports | C25: P7
B27: IENĀKUMU ASPEKTS
B28: Darba ņēmēju atalgojums | C28: D1
B29: Bruto pamatdarbības pārpalikums un bruto jauktais ienākums | C29: B2G+B3G | H29: -39.944825 | I29: -41.513419 | J29: -65.289365 | K29: -40.65491 | L29: -52.083255 | M29: -93.129722 | N29: -50.04893
B30: Ražošanas un importa nodokļi | C30: D2
B31: Subsīdijas | C31: D3 | H31: -27.428958 | I31: -33.963007 | J31: -53.614878 | K31: -30.20514 | L31: -35.949716 | M31: -82.208186 | N31: -43.206403

Sheet 1.2
B1: 1.2. Elektroenerģijas ražošana mājsaimniecībās
B2: miljonos EUR
C3: ESA 2010 kods | D3: 2014 | E3: 2015 | F3: 2016 | G3: 2017 | H3: 2018 | I3: 2019 | J3: 2020 | K3: 2021 | L3: 2022 | M3: 2023 | N3: 2024
B5: IEKŠZEMES KOPPRODUKTS | C5: B1*G | L5: 8.1460366 | M5: 14.398401 | N5: 17.974791
B6: IEKŠZEMES KOPPRODUKTS, % | C6: B1*G | L6: 0.00022572239 | M6: 0.00036392479 | N6: 0.00044215906
B8: RAŽOŠANAS ASPEKTS
B9: Izlaide (bāzes cenās) | C9: P1 | L9: 10.162535 | M9: 19.908841 | N9: 25.519615
B10: Starppatēriņš (pircēju cenās) | C10: P2 | L10: 2.0164982 | M10: 5.5104407 | N10: 7.5448246
B11: Bruto pievienotā vērtība (bāzes cenās) | C11: B1G | L11: 8.1460366 | M11: 14.398401 | N11: 17.974791
B12: Produktu nodokļi | C12: D21
B13: Produktu subsīdijas | C13: D31
B15: IZLIETOJUMA ASPKTS
B16: Kopējie galapatēriņa izdevumi | C16: P3 | L16: 7.8264366 | M16: 13.947408 | N16: 16.384338
B17: Mājsaimniecību galapatēriņa izdevumi | C17: P3 | L17: 7.8264366 | M17: 13.947408 | N17: 16.384338
B18: MABO galapatēriņa izdevumi | C18: P3
B19: Valdības galapatēriņa izdevumi | C19: P3
B20: Bruto kapitāla veidošana | C20: P5 | L20: 0.31960002 | M20: 0.45099297 | N20: 1.5904523
B21: Bruto pamatkapitāla veidošana | C21: P51g
B22: Krājumu pārmaiņas | C22: P52 | L22: 0.31960002 | M22: 0.45099297 | N22: 1.5904523
B23: Vērtslietu iegādes mīnus atsavinājumi | C23: P53
B24: Preču un pakalpojumu eksports | C24: P6
B25: Preču un pakalpojumu imports | C25: P7
B27: IENĀKUMU ASPEKTS
B28: Darba ņēmēju atalgojums | C28: D1
B29: Bruto pamatdarbības pārpalikums un bruto jauktais ienākums | C29: B2G+B3G | L29: 8.1460366 | M29: 14.398401 | N29: 17.974791
B30: Ražošanas un importa nodokļi | C30: D2
B31: Subsīdijas | C31: D3

Sheet 1.3
B1: 1.3. Attieksme pret PVN tirgotājiem, kas nav rezidenti
B2: miljonos EUR
C3: ESA 2010 kods | D3: 2014 | E3: 2015 | F3: 2016 | G3: 2017 | H3: 2018 | I3: 2019 | J3: 2020 | K3: 2021 | L3: 2022 | M3: 2023 | N3: 2024
B5: IEKŠZEMES KOPPRODUKTS | C5: B1*G
B6: IEKŠZEMES KOPPRODUKTS, % | C6: B1*G
B8: RAŽOŠANAS ASPEKTS
B9: Izlaide (bāzes cenās) | C9: P1
B10: Starppatēriņš (pircēju cenās) | C10: P2
B11: Bruto pievienotā vērtība (bāzes cenās) | C11: B1G
B12: Produktu nodokļi | C12: D21
B13: Produktu subsīdijas | C13: D31
B15: IZLIETOJUMA ASPKTS
B16: Kopējie galapatēriņa izdevumi | C16: P3 | H16: 87.616728 | I16: 83.811647 | J16: 49.867121 | K16: 149.80478 | L16: 463.95725 | M16: 305.18236 | N16: 275.60198
B17: Mājsaimniecību galapatēriņa izdevumi | C17: P3 | H17: 87.616728 | I17: 83.811647 | J17: 49.867121 | K17: 149.80478 | L17: 463.95725 | M17: 305.18236 | N17: 275.60198
B18: MABO galapatēriņa izdevumi | C18: P3
B19: Valdības galapatēriņa izdevumi | C19: P3
B20: Bruto kapitāla veidošana | C20: P5 | H20: 96.235893 | I20: 95.23227 | J20: 17.794265 | K20: 81.629857 | L20: 57.785768 | M20: 82.918968 | N20: 112.12865
B21: Bruto pamatkapitāla veidošana | C21: P51g
B22: Krājumu pārmaiņas | C22: P52 | H22: 96.235893 | I22: 95.23227 | J22: 17.794265 | K22: 81.629857 | L22: 57.785768 | M22: 82.918968 | N22: 112.12865
B23: Vērtslietu iegādes mīnus atsavinājumi | C23: P53
B24: Preču un pakalpojumu eksports | C24: P6 | H24: -509.22648 | I24: -522.07295 | J24: -533.26512 | K24: -571.6161 | L24: -627.68432 | M24: -746.21934 | N24: -868.2505
B25: Preču un pakalpojumu imports | C25: P7 | H25: -325.37386 | I25: -343.02903 | J25: -465.60373 | K25: -340.18147 | L25: -105.94129 | M25: -358.11802 | N25: -480.51987
B27: IENĀKUMU ASPEKTS
B28: Darba ņēmēju atalgojums | C28: D1
B29: Bruto pamatdarbības pārpalikums un bruto jauktais ienākums | C29: B2G+B3G
B30: Ražošanas un importa nodokļi | C30: D2
B31: Subsīdijas | C31: D3

Sheet 2.1
B1: 2.1. Makroekonomikas nelīdzsvarotības procedūras rekomendāciju ieviešana
B2: miljonos EUR
C3: ESA 2010 kods | D3: 2014 | E3: 2015 | F3: 2016 | G3: 2017 | H3: 2018 | I3: 2019 | J3: 2020 | K3: 2021 | L3: 2022 | M3: 2023 | N3: 2024
B5: IEKŠZEMES KOPPRODUKTS | C5: B1*G
B6: IEKŠZEMES KOPPRODUKTS, % | C6: B1*G
B8: RAŽOŠANAS ASPEKTS
B9: Izlaide (bāzes cenās) | C9: P1
B10: Starppatēriņš (pircēju cenās) | C10: P2
B11: Bruto pievienotā vērtība (bāzes cenās) | C11: B1G
B12: Produktu nodokļi | C12: D21
B13: Produktu subsīdijas | C13: D31
B15: IZLIETOJUMA ASPKTS
B16: Kopējie galapatēriņa izdevumi | C16: P3 | J16: 60.549971 | K16: 94.049911 | L16: 125.89554 | M16: 165.33103 | N16: 202.01284
B17: Mājsaimniecību galapatēriņa izdevumi | C17: P3 | J17: 60.549971 | K17: 94.049911 | L17: 125.89554 | M17: 165.33103 | N17: 202.01284
B18: MABO galapatēriņa izdevumi | C18: P3
B19: Valdības galapatēriņa izdevumi | C19: P3
B20: Bruto kapitāla veidošana | C20: P5 | J20: 7.4489926 | K20: 12.312771 | L20: 14.044051 | M20: 18.511978 | N20: 23.908592
B21: Bruto pamatkapitāla veidošana | C21: P51g
B22: Krājumu pārmaiņas | C22: P52 | J22: 7.4489926 | K22: 12.312771 | L22: 14.044051 | M22: 18.511978 | N22: 23.908592
B23: Vērtslietu iegādes mīnus atsavinājumi | C23: P53
B24: Preču un pakalpojumu eksports | C24: P6
B25: Preču un pakalpojumu imports | C25: P7 | J25: 67.998964 | K25: 106.36268 | L25: 139.93959 | M25: 183.84301 | N25: 225.92143
B27: IENĀKUMU ASPEKTS
B28: Darba ņēmēju atalgojums | C28: D1
B29: Bruto pamatdarbības pārpalikums un bruto jauktais ienākums | C29: B2G+B3G
B30: Ražošanas un importa nodokļi | C30: D2
B31: Subsīdijas | C31: D3

Sheet 2.2
B1: 2.2. Pārmērīga budžeta deficīta procedūras darbība punkta ieviešana saistībā ar vienas institucionālās vienības pārklasificēšanu
B2: miljonos EUR
C3: ESA 2010 kods | D3: 2014 | E3: 2015 | F3: 2016 | G3: 2017 | H3: 2018 | I3: 2019 | J3: 2020 | K3: 2021 | L3: 2022 | M3: 2023 | N3: 2024
B5: IEKŠZEMES KOPPRODUKTS | C5: B1*G | L5: -0.69448113 | M5: 0.42781766 | N5: 0.081893874
B6: IEKŠZEMES KOPPRODUKTS, % | C6: B1*G | L6: -1.9243707e-05 | M6: 1.0813246e-05 | N6: 2.0144946e-06
B8: RAŽOŠANAS ASPEKTS
B9: Izlaide (bāzes cenās) | C9: P1 | L9: -0.69448113 | M9: 0.42781766 | N9: 0.081893874
B10: Starppatēriņš (pircēju cenās) | C10: P2
B11: Bruto pievienotā vērtība (bāzes cenās) | C11: B1G | L11: -0.69448113 | M11: 0.42781766 | N11: 0.081893874
B12: Produktu nodokļi | C12: D21
B13: Produktu subsīdijas | C13: D31
B15: IZLIETOJUMA ASPKTS
B16: Kopējie galapatēriņa izdevumi | C16: P3 | L16: -0.69448113 | M16: 0.42781766 | N16: 0.081893874
B17: Mājsaimniecību galapatēriņa izdevumi | C17: P3
B18: MABO galapatēriņa izdevumi | C18: P3
B19: Valdības galapatēriņa izdevumi | C19: P3 | L19: -0.69448113 | M19: 0.42781766 | N19: 0.081893874
B20: Bruto kapitāla veidošana | C20: P5
B21: Bruto pamatkapitāla veidošana | C21: P51g
B22: Krājumu pārmaiņas | C22: P52
B23: Vērtslietu iegādes mīnus atsavinājumi | C23: P53
B24: Preču un pakalpojumu eksports | C24: P6
B25: Preču un pakalpojumu imports | C25: P7
B27: IENĀKUMU ASPEKTS
B28: Darba ņēmēju atalgojums | C28: D1
B29: Bruto pamatdarbības pārpalikums un bruto jauktais ienākums | C29: B2G+B3G | L29: -0.69448113 | M29: 0.42781766 | N29: 0.081893874
B30: Ražošanas un importa nodokļi | C30: D2
B31: Subsīdijas | C31: D3

Sheet 2.3
B1: 2.3. Maksājumu bilances datu revīzija saistībā ar izmaiņām datu avotos un/vai analītiskā darba rezultātu
B2: miljonos EUR
C3: ESA 2010 kods | D3: 2014 | E3: 2015 | F3: 2016 | G3: 2017 | H3: 2018 | I3: 2019 | J3: 2020 | K3: 2021 | L3: 2022 | M3: 2023 | N3: 2024
B5: IEKŠZEMES KOPPRODUKTS | C5: B1*G
B6: IEKŠZEMES KOPPRODUKTS, % | C6: B1*G
B8: RAŽOŠANAS ASPEKTS
B9: Izlaide (bāzes cenās) | C9: P1
B10: Starppatēriņš (pircēju cenās) | C10: P2
B11: Bruto pievienotā vērtība (bāzes cenās) | C11: B1G
B12: Produktu nodokļi | C12: D21
B13: Produktu subsīdijas | C13: D31
B15: IZLIETOJUMA ASPKTS
B16: Kopējie galapatēriņa izdevumi | C16: P3 | D16: 0.025932281 | E16: -3.1510993 | F16: -0.011379317 | G16: -0.014610085 | H16: -0.0015611868 | I16: 7.8006204 | J16: 1.9743711 | K16: -1.0063164 | L16: 58.422073 | M16: 1.0875003 | N16: -0.85954338
B17: Mājsaimniecību galapatēriņa izdevumi | C17: P3 | D17: 0.025932281 | E17: -3.1510993 | F17: -0.011379317 | G17: -0.014610085 | H17: -0.0015611868 | I17: 7.8006204 | J17: 1.9743711 | K17: -1.0063164 | L17: 58.422073 | M17: 1.0875003 | N17: -0.85954338
B18: MABO galapatēriņa izdevumi | C18: P3
B19: Valdības galapatēriņa izdevumi | C19: P3
B20: Bruto kapitāla veidošana | C20: P5 | D20: -0.012844 | E20: 1.5782719 | F20: 0.5202948 | G20: 9.01044 | H20: 0.4502552 | I20: 21.18104 | J20: 14.271988 | K20: 6.3947941 | L20: -3.6885327 | M20: 26.370685 | N20: 3.0110268
B21: Bruto pamatkapitāla veidošana | C21: P51g
B22: Krājumu pārmaiņas | C22: P52 | D22: -0.012844 | E22: 1.5782719 | F22: 0.5202948 | G22: 9.01044 | H22: 0.4502552 | I22: 21.18104 | J22: 14.271988 | K22: 6.3947941 | L22: -3.6885327 | M22: 26.370685 | N22: 3.0110268
B23: Vērtslietu iegādes mīnus atsavinājumi | C23: P53
B24: Preču un pakalpojumu eksports | C24: P6 | D24: -0.030926321 | E24: 2.1521391 | G24: -31.043034 | H24: -22.81919 | I24: -19.963544 | J24: -13.659993 | K24: -11.963335 | L24: -13.843515 | M24: -16.53805 | N24: -18.820287
B25: Preču un pakalpojumu imports | C25: P7 | D25: -0.01783804 | E25: 0.57931172 | F25: 0.50891548 | G25: -22.047204 | H25: -22.370496 | I25: 9.018116 | J25: 2.5863661 | K25: -6.5748571 | L25: 40.890025 | M25: 10.920135 | N25: -16.668803
B27: IENĀKUMU ASPEKTS
B28: Darba ņēmēju atalgojums | C28: D1
B29: Bruto pamatdarbības pārpalikums un bruto jauktais ienākums | C29: B2G+B3G
B30: Ražošanas un importa nodokļi | C30: D2
B31: Subsīdijas | C31: D3

Sheet 2.4
B1: 2.4. Revīzija saistībā ar nacionālo kontu analītiskajā darbā rezultātu, kur tika identificētas problēmas tiešajos datu avotos par trīs uzņēmumiem
B2: miljonos EUR
C3: ESA 2010 kods | D3: 2014 | E3: 2015 | F3: 2016 | G3: 2017 | H3: 2018 | I3: 2019 | J3: 2020 | K3: 2021 | L3: 2022 | M3: 2023 | N3: 2024
B5: IEKŠZEMES KOPPRODUKTS | C5: B1*G | L5: -63.301994 | M5: -90.400857 | N5: -12.012449
B6: IEKŠZEMES KOPPRODUKTS, % | C6: B1*G | L6: -0.001754065 | M6: -0.0022849144 | N6: -0.00029549235
B8: RAŽOŠANAS ASPEKTS
B9: Izlaide (bāzes cenās) | C9: P1 | L9: -86.986898 | M9: -75.657876 | N9: -7.632797
B10: Starppatēriņš (pircēju cenās) | C10: P2 | L10: -23.684904 | M10: 14.742981 | N10: 4.379652
B11: Bruto pievienotā vērtība (bāzes cenās) | C11: B1G | L11: -63.301994 | M11: -90.400857 | N11: -12.012449
B12: Produktu nodokļi | C12: D21
B13: Produktu subsīdijas | C13: D31
B15: IZLIETOJUMA ASPKTS
B16: Kopējie galapatēriņa izdevumi | C16: P3 | M16: 14.563117
B17: Mājsaimniecību galapatēriņa izdevumi | C17: P3 | M17: 14.563117
B18: MABO galapatēriņa izdevumi | C18: P3
B19: Valdības galapatēriņa izdevumi | C19: P3
B20: Bruto kapitāla veidošana | C20: P5 | L20: -63.301994 | M20: -104.96397 | N20: -12.012449
B21: Bruto pamatkapitāla veidošana | C21: P51g
B22: Krājumu pārmaiņas | C22: P52 | L22: -63.301994 | M22: -104.96397 | N22: -12.012449
B23: Vērtslietu iegādes mīnus atsavinājumi | C23: P53
B24: Preču un pakalpojumu eksports | C24: P6
B25: Preču un pakalpojumu imports | C25: P7
B27: IENĀKUMU ASPEKTS
B28: Darba ņēmēju atalgojums | C28: D1
B29: Bruto pamatdarbības pārpalikums un bruto jauktais ienākums | C29: B2G+B3G | L29: -63.301994 | M29: -90.400857 | N29: -12.012449
B30: Ražošanas un importa nodokļi | C30: D2
B31: Subsīdijas | C31: D3

Sheet 2.5
B1: 2.5. Revīzija saistībā ar nacionālo kontu sastādīšanas kļūdas identificēšanu 2023. gadam, kas radās tiešo datu avotu strukturālu izmaiņu dēļ
B2: miljonos EUR
C3: ESA 2010 kods | D3: 2014 | E3: 2015 | F3: 2016 | G3: 2017 | H3: 2018 | I3: 2019 | J3: 2020 | K3: 2021 | L3: 2022 | M3: 2023 | N3: 2024
B5: IEKŠZEMES KOPPRODUKTS | C5: B1*G | M5: -2.8073112
B6: IEKŠZEMES KOPPRODUKTS, % | C6: B1*G | M6: -7.0955807e-05
B8: RAŽOŠANAS ASPEKTS
B9: Izlaide (bāzes cenās) | C9: P1 | M9: 83.08153
B10: Starppatēriņš (pircēju cenās) | C10: P2 | M10: 85.888841
B11: Bruto pievienotā vērtība (bāzes cenās) | C11: B1G | M11: -2.8073112
B12: Produktu nodokļi | C12: D21
B13: Produktu subsīdijas | C13: D31
B15: IZLIETOJUMA ASPKTS
B16: Kopējie galapatēriņa izdevumi | C16: P3 | M16: 66.597868
B17: Mājsaimniecību galapatēriņa izdevumi | C17: P3 | M17: -1.5857082
B18: MABO galapatēriņa izdevumi | C18: P3 | M18: 68.183577
B19: Valdības galapatēriņa izdevumi | C19: P3
B20: Bruto kapitāla veidošana | C20: P5 | M20: -69.40518
B21: Bruto pamatkapitāla veidošana | C21: P51g
B22: Krājumu pārmaiņas | C22: P52 | M22: -69.40518
B23: Vērtslietu iegādes mīnus atsavinājumi | C23: P53
B24: Preču un pakalpojumu eksports | C24: P6
B25: Preču un pakalpojumu imports | C25: P7
B27: IENĀKUMU ASPEKTS
B28: Darba ņēmēju atalgojums | C28: D1 | M28: -2.6509522
B29: Bruto pamatdarbības pārpalikums un bruto jauktais ienākums | C29: B2G+B3G | M29: -0.156359
B30: Ražošanas un importa nodokļi | C30: D2
B31: Subsīdijas | C31: D3

Sheet 3
B1: 3. Ikgadējā rutīnas revīzija
B2: miljonos EUR
C3: ESA 2010 kods | D3: 2014 | E3: 2015 | F3: 2016 | G3: 2017 | H3: 2018 | I3: 2019 | J3: 2020 | K3: 2021 | L3: 2022 | M3: 2023 | N3: 2024
B5: IEKŠZEMES KOPPRODUKTS | C5: B1*G | N5: 456.4897
B6: IEKŠZEMES KOPPRODUKTS, % | C6: B1*G | N6: 0.011229119
B8: RAŽOŠANAS ASPEKTS
B9: Izlaide (bāzes cenās) | C9: P1 | N9: 979.96581
B10: Starppatēriņš (pircēju cenās) | C10: P2 | N10: 523.47653
B11: Bruto pievienotā vērtība (bāzes cenās) | C11: B1G | N11: 456.48928
B12: Produktu nodokļi | C12: D21
B13: Produktu subsīdijas | C13: D31
B15: IZLIETOJUMA ASPKTS
B16: Kopējie galapatēriņa izdevumi | C16: P3 | N16: -134.67561
B17: Mājsaimniecību galapatēriņa izdevumi | C17: P3 | N17: -254.23536
B18: MABO galapatēriņa izdevumi | C18: P3 | N18: 142.06338
B19: Valdības galapatēriņa izdevumi | C19: P3 | N19: -22.503622
B20: Bruto kapitāla veidošana | C20: P5 | N20: 591.16524
B21: Bruto pamatkapitāla veidošana | C21: P51g | N21: 340.98162
B22: Krājumu pārmaiņas | C22: P52 | N22: 244.52074
B23: Vērtslietu iegādes mīnus atsavinājumi | C23: P53 | N23: 5.662882
B24: Preču un pakalpojumu eksports | C24: P6
B25: Preču un pakalpojumu imports | C25: P7
B27: IENĀKUMU ASPEKTS
B28: Darba ņēmēju atalgojums | C28: D1 | N28: -154.18714
B29: Bruto pamatdarbības pārpalikums un bruto jauktais ienākums | C29: B2G+B3G | N29: 610.67644
B30: Ražošanas un importa nodokļi | C30: D2
B31: Subsīdijas | C31: D3
